BEGIN:VCALENDAR
VERSION:2.0
PRODID:SchoolNow
CALSCALE:GREGORIAN
BEGIN:VEVENT
UID:940a4d16-be75-11f0-9b3e-0a58a9feac02
DTSTAMP:20260419T163511Z
SUMMARY:McCracken Boys Varsity Basketball at Golf
LOCATION:Golf Elementary School District 67\, Niles Township\, IL\, USA
URL;VALUE=URI:https://www.sd735.org/calendar/8787893/mccracken-boys-varsity
 -basketball-at-golf
DTSTART:20260204T220000Z
DTEND:20260204T230000Z
END:VEVENT
END:VCALENDAR
