BEGIN:VCALENDAR
VERSION:2.0
PRODID:SchoolNow
CALSCALE:GREGORIAN
BEGIN:VEVENT
UID:93fa6d10-be75-11f0-ba2d-0a58a9feac02
DTSTAMP:20260419T163512Z
SUMMARY:McCracken Boys Varsity Basketball vs. Old Orchard
LOCATION:Oliver McCracken Middle School\, 8000 E Prairie Rd\, Skokie\, IL 6
 0076\, USA
URL;VALUE=URI:https://www.sd735.org/calendar/8787890/mccracken-boys-varsity
 -basketball-vs-old-orchard
DTSTART:20260211T221500Z
DTEND:20260211T231500Z
END:VEVENT
END:VCALENDAR
