BEGIN:VCALENDAR
VERSION:2.0
PRODID:SchoolNow
CALSCALE:GREGORIAN
BEGIN:VEVENT
UID:93355caa-be75-11f0-ba9b-0a58a9feac02
DTSTAMP:20260419T163511Z
SUMMARY:McCracken Boys JV Basketball at Fairview
LOCATION:Fairview South Elementary School\, 7040 Laramie Ave\, Skokie\, IL 
 60077\, USA
URL;VALUE=URI:https://www.sd735.org/calendar/8787884/mccracken-boys-jv-bask
 etball-at-fairview
DTSTART:20260127T220000Z
DTEND:20260127T230000Z
END:VEVENT
END:VCALENDAR
