BEGIN:VCALENDAR
VERSION:2.0
PRODID:SchoolNow
CALSCALE:GREGORIAN
BEGIN:VEVENT
UID:93355836-be75-11f0-b59c-0a58a9feac02
DTSTAMP:20260419T163511Z
SUMMARY:CANCELLED - McCracken Boys Varsity Basketball vs. Fairview
LOCATION:Oliver McCracken Middle School\, 8000 E Prairie Rd\, Skokie\, IL 6
 0076\, USA
URL;VALUE=URI:https://www.sd735.org/calendar/8787883/cancelled-mccracken-bo
 ys-varsity-basketball-vs-fairview
DTSTART:20260123T221500Z
DTEND:20260123T231500Z
END:VEVENT
END:VCALENDAR
