BEGIN:VCALENDAR
VERSION:2.0
PRODID:SchoolNow
CALSCALE:GREGORIAN
BEGIN:VEVENT
UID:933554a8-be75-11f0-a1ab-0a58a9feac02
DTSTAMP:20260419T163511Z
SUMMARY:McCracken Boys Varsity Basketball at Fairview
LOCATION:Fairview South Elementary School\, 7040 Laramie Ave\, Skokie\, IL 
 60077\, USA
URL;VALUE=URI:https://www.sd735.org/calendar/8787882/mccracken-boys-varsity
 -basketball-at-fairview
DTSTART:20260225T220000Z
DTEND:20260225T230000Z
END:VEVENT
END:VCALENDAR
