BEGIN:VCALENDAR
VERSION:2.0
PRODID:SchoolNow
CALSCALE:GREGORIAN
BEGIN:VEVENT
UID:067ce9d0-b04d-11f0-9011-0a58a9feac02
DTSTAMP:20260419T224011Z
SUMMARY:DISTRICT CLOSED
URL;VALUE=URI:https://www.sd735.org/calendar/8745415/district-closed
DTSTART;VALUE=DATE:20251226
DTEND;VALUE=DATE:20251227
END:VEVENT
END:VCALENDAR
