BEGIN:VCALENDAR
VERSION:2.0
PRODID:SchoolNow
CALSCALE:GREGORIAN
BEGIN:VEVENT
UID:06f225b8-a929-11f0-ad2c-0a58a9feac02
DTSTAMP:20260419T224011Z
SUMMARY:Finance Committee Meeting
LOCATION:Oliver McCracken Middle School\, 8000 E Prairie Rd\, Skokie\, IL 6
 0076\, USA
URL;VALUE=URI:https://www.sd735.org/calendar/8722141/finance-committee-meet
 ing
DTSTART:20260603T000000Z
DTEND:20260603T013000Z
END:VEVENT
END:VCALENDAR
