BEGIN:VCALENDAR
VERSION:2.0
PRODID:SchoolNow
CALSCALE:GREGORIAN
BEGIN:VEVENT
UID:06f223ec-a929-11f0-a372-0a58a9feac02
DTSTAMP:20260419T163511Z
SUMMARY:CANCELLED -- Finance Committee Meeting
LOCATION:Oliver McCracken Middle School\, 8000 E Prairie Rd\, Skokie\, IL 6
 0076\, USA
URL;VALUE=URI:https://www.sd735.org/calendar/8722139/cancelled-finance-comm
 ittee-meeting
DTSTART:20260408T000000Z
DTEND:20260408T013000Z
END:VEVENT
END:VCALENDAR
