BEGIN:VCALENDAR
VERSION:2.0
PRODID:SchoolNow
CALSCALE:GREGORIAN
BEGIN:VEVENT
UID:d84af764-9e1d-11f0-9767-0e0b299dbd6f
DTSTAMP:20260419T163511Z
SUMMARY:Middleton Musical: Student Preview Show Performance
LOCATION:Oliver McCracken Middle School\, 8000 E Prairie Rd\, Skokie\, IL 6
 0076\, USA
URL;VALUE=URI:https://www.sd735.org/calendar/8680376/middleton-musical-stud
 ent-preview-show-performance
DTSTART:20260430T181500Z
DTEND:20260430T193000Z
END:VEVENT
END:VCALENDAR
