BEGIN:VCALENDAR
VERSION:2.0
PRODID:SchoolNow
CALSCALE:GREGORIAN
BEGIN:VEVENT
UID:d84af5a2-9e1d-11f0-b2c1-0e0b299dbd6f
DTSTAMP:20260419T224011Z
SUMMARY:Middleton Musical: Full Cast and Crew Tech Rehearsal
LOCATION:Oliver McCracken Middle School\, 8000 E Prairie Rd\, Skokie\, IL 6
 0076\, USA
URL;VALUE=URI:https://www.sd735.org/calendar/8680374/middleton-musical-full
 -cast-and-crew-tech-rehearsal
DTSTART:20260429T200000Z
DTEND:20260430T000000Z
END:VEVENT
END:VCALENDAR
