BEGIN:VCALENDAR
VERSION:2.0
PRODID:SchoolNow
CALSCALE:GREGORIAN
BEGIN:VEVENT
UID:d84af2f0-9e1d-11f0-9f4f-0e0b299dbd6f
DTSTAMP:20260419T163511Z
SUMMARY:Middleton Musical Tech Rehearsal: Cast and Crew
LOCATION:Oliver McCracken Middle School\, 8000 E Prairie Rd\, Skokie\, IL 6
 0076\, USA
URL;VALUE=URI:https://www.sd735.org/calendar/8680371/middleton-musical-tech
 -rehearsal-cast-and-crew
DTSTART:20260418T140000Z
DTEND:20260418T200000Z
END:VEVENT
END:VCALENDAR
