BEGIN:VCALENDAR
VERSION:2.0
PRODID:SchoolNow
CALSCALE:GREGORIAN
BEGIN:VEVENT
UID:d84af1f6-9e1d-11f0-b66f-0e0b299dbd6f
DTSTAMP:20260419T163511Z
SUMMARY:Middleton Musical Tech Rehearsal: McCracken Tech Crew ONLY
LOCATION:Oliver McCracken Middle School\, 8000 E Prairie Rd\, Skokie\, IL 6
 0076\, USA
URL;VALUE=URI:https://www.sd735.org/calendar/8680370/middleton-musical-tech
 -rehearsal-mccracken-tech-crew-only
DTSTART:20260417T200000Z
DTEND:20260418T000000Z
END:VEVENT
END:VCALENDAR
