BEGIN:VCALENDAR
VERSION:2.0
PRODID:SchoolNow
CALSCALE:GREGORIAN
BEGIN:VEVENT
UID:d84af0e8-9e1d-11f0-8a2e-0e0b299dbd6f
DTSTAMP:20260419T163511Z
SUMMARY:Middleton Musical Rehearsal
LOCATION:John Middleton Elementary School\, 8300 St Louis Ave\, Skokie\, IL
  60076\, USA
URL;VALUE=URI:https://www.sd735.org/calendar/8680369/middleton-musical-rehe
 arsal
DTSTART:20260321T140000Z
DTEND:20260321T170000Z
END:VEVENT
END:VCALENDAR
