BEGIN:VCALENDAR
VERSION:2.0
PRODID:SchoolNow
CALSCALE:GREGORIAN
BEGIN:VEVENT
UID:10287f46-9c6e-11f0-8433-0a58a9feac02
DTSTAMP:20260419T163512Z
SUMMARY:McCracken Singers Concert
LOCATION:Oliver McCracken Middle School\, 8000 E Prairie Rd\, Skokie\, IL 6
 0076\, USA
URL;VALUE=URI:https://www.sd735.org/calendar/8673355/mccracken-singers-conc
 ert
DTSTART:20260225T010000Z
DTEND:20260225T020000Z
END:VEVENT
END:VCALENDAR
