BEGIN:VCALENDAR
VERSION:2.0
PRODID:SchoolNow
CALSCALE:GREGORIAN
BEGIN:VEVENT
UID:14e19736-9c6c-11f0-b40c-0a58a9feac02
DTSTAMP:20260419T163512Z
SUMMARY:Concert Band Performance at Prairie State Concert Band Festival
LOCATION:Plainfield East High School\, 12001 Naperville Rd\, Plainfield\, I
 L 60585\, USA
URL;VALUE=URI:https://www.sd735.org/calendar/8673346/concert-band-performan
 ce-at-prairie-state-concert-band-festival
DTSTART;VALUE=DATE:20260417
DTEND;VALUE=DATE:20260419
END:VEVENT
END:VCALENDAR
