BEGIN:VCALENDAR
VERSION:2.0
PRODID:SchoolNow
CALSCALE:GREGORIAN
BEGIN:VEVENT
UID:14e19542-9c6c-11f0-8a19-0a58a9feac02
DTSTAMP:20260419T163511Z
SUMMARY:All-Bands Concert at Niles North
LOCATION:Niles North High School\, 9800 Lawler Ave\, Skokie\, IL 60077\, US
 A
URL;VALUE=URI:https://www.sd735.org/calendar/8673344/all-bands-concert-at-n
 iles-north
DTSTART:20260512T000000Z
DTEND:20260512T010000Z
END:VEVENT
END:VCALENDAR
