BEGIN:VCALENDAR
VERSION:2.0
PRODID:SchoolNow
CALSCALE:GREGORIAN
BEGIN:VEVENT
UID:0f716d0c-98a8-11f0-971b-0217976d27ff
DTSTAMP:20260419T163511Z
SUMMARY:Middleton 5th Grade Farewell
LOCATION:John Middleton Elementary School\, 8300 St Louis Ave\, Skokie\, IL
  60076\, USA
URL;VALUE=URI:https://www.sd735.org/calendar/8656875/middleton-5th-grade-fa
 rewell
DTSTART:20260527T230000Z
DTEND:20260527T234500Z
END:VEVENT
END:VCALENDAR
