BEGIN:VCALENDAR
VERSION:2.0
PRODID:SchoolNow
CALSCALE:GREGORIAN
BEGIN:VEVENT
UID:0f716c26-98a8-11f0-9431-0217976d27ff
DTSTAMP:20260419T163511Z
SUMMARY:Middleton 2nd Grade Music Concert
LOCATION:John Middleton Elementary School\, 8300 St Louis Ave\, Skokie\, IL
  60076\, USA
URL;VALUE=URI:https://www.sd735.org/calendar/8656874/middleton-2nd-grade-mu
 sic-concert
DTSTART:20260522T000000Z
DTEND:20260522T003000Z
END:VEVENT
END:VCALENDAR
