BEGIN:VCALENDAR
VERSION:2.0
PRODID:SchoolNow
CALSCALE:GREGORIAN
BEGIN:VEVENT
UID:0f716956-98a8-11f0-90ed-0217976d27ff
DTSTAMP:20260419T163511Z
SUMMARY:Middleton Musical
LOCATION:Oliver McCracken Middle School\, 8000 E Prairie Rd\, Skokie\, IL 6
 0076\, USA
URL;VALUE=URI:https://www.sd735.org/calendar/8656871/middleton-musical
DTSTART:20260503T000000Z
DTEND:20260503T020000Z
END:VEVENT
END:VCALENDAR
