BEGIN:VCALENDAR
VERSION:2.0
PRODID:SchoolNow
CALSCALE:GREGORIAN
BEGIN:VEVENT
UID:0f716744-98a8-11f0-a9d4-0217976d27ff
DTSTAMP:20260419T163511Z
SUMMARY:Middleton 3rd Grade Mini-Musical Concert
LOCATION:John Middleton Elementary School\, 8300 St Louis Ave\, Skokie\, IL
  60076\, USA
URL;VALUE=URI:https://www.sd735.org/calendar/8656869/middleton-3rd-grade-mi
 ni-musical-concert
DTSTART:20260409T000000Z
DTEND:20260409T010000Z
END:VEVENT
END:VCALENDAR
