BEGIN:VCALENDAR
VERSION:2.0
PRODID:SchoolNow
CALSCALE:GREGORIAN
BEGIN:VEVENT
UID:5a80f55e-95c1-11f0-90d3-0a58a9feac02
DTSTAMP:20260419T163511Z
SUMMARY:Staff Appreciation Week
URL;VALUE=URI:https://www.sd735.org/calendar/8645047/staff-appreciation-wee
 k
DTSTART;VALUE=DATE:20260504
DTEND;VALUE=DATE:20260509
END:VEVENT
END:VCALENDAR
