BEGIN:VCALENDAR
VERSION:2.0
PRODID:SchoolNow
CALSCALE:GREGORIAN
BEGIN:VEVENT
UID:f8145e88-958e-11f0-b68f-0affc363eacf
DTSTAMP:20260419T163511Z
SUMMARY:5th Grade Visit to McCracken
LOCATION:Oliver McCracken Middle School\, 8000 E Prairie Rd\, Skokie\, IL 6
 0076\, USA
URL;VALUE=URI:https://www.sd735.org/calendar/8643442/5th-grade-visit-to-mcc
 racken
DTSTART:20260514T173000Z
DTEND:20260514T193000Z
END:VEVENT
END:VCALENDAR
