BEGIN:VCALENDAR
VERSION:2.0
PRODID:SchoolNow
CALSCALE:GREGORIAN
BEGIN:VEVENT
UID:f8145da2-958e-11f0-84a8-0affc363eacf
DTSTAMP:20260419T163512Z
SUMMARY:"On to 6th Grade" Family Information Night
LOCATION:Oliver McCracken Middle School\, 8000 E Prairie Rd\, Skokie\, IL 6
 0076\, USA
URL;VALUE=URI:https://www.sd735.org/calendar/8643441/on-to-6th-grade-family
 -information-night
DTSTART:20260507T230000Z
DTEND:20260508T000000Z
END:VEVENT
END:VCALENDAR
