BEGIN:VCALENDAR
VERSION:2.0
PRODID:SchoolNow
CALSCALE:GREGORIAN
BEGIN:VEVENT
UID:f8145cc6-958e-11f0-8da7-0affc363eacf
DTSTAMP:20260419T163511Z
SUMMARY:McCracken 6th & 7th Grade Spring Choir Concert
LOCATION:Oliver McCracken Middle School\, 8000 E Prairie Rd\, Skokie\, IL 6
 0076\, USA
URL;VALUE=URI:https://www.sd735.org/calendar/8643440/mccracken-6th-7th-grad
 e-spring-choir-concert
DTSTART:20260504T234500Z
DTEND:20260505T003000Z
END:VEVENT
END:VCALENDAR
