BEGIN:VCALENDAR
VERSION:2.0
PRODID:SchoolNow
CALSCALE:GREGORIAN
BEGIN:VEVENT
UID:f81457da-958e-11f0-8e60-0affc363eacf
DTSTAMP:20260419T163511Z
SUMMARY:McCracken Student Council Hangout
URL;VALUE=URI:https://www.sd735.org/calendar/8643435/mccracken-student-coun
 cil-hangout
DTSTART:20260320T223000Z
DTEND:20260321T000000Z
END:VEVENT
END:VCALENDAR
