BEGIN:VCALENDAR
VERSION:2.0
PRODID:SchoolNow
CALSCALE:GREGORIAN
BEGIN:VEVENT
UID:44e6ff02-958c-11f0-b2ea-0e1f25b5fc7b
DTSTAMP:20260419T163511Z
SUMMARY:Preschool Screenings
URL;VALUE=URI:https://www.sd735.org/calendar/8643417/preschool-screenings
DTSTART;VALUE=DATE:20260424
DTEND;VALUE=DATE:20260425
END:VEVENT
END:VCALENDAR
