BEGIN:VCALENDAR
VERSION:2.0
PRODID:SchoolNow
CALSCALE:GREGORIAN
BEGIN:VEVENT
UID:44e6fdc2-958c-11f0-93ea-0e1f25b5fc7b
DTSTAMP:20260419T163511Z
SUMMARY:Preschool Registration Begins for Skokie73.5 Residents
URL;VALUE=URI:https://www.sd735.org/calendar/8643416/preschool-registration
 -begins-for-skokie73-5-residents
DTSTART:20260209T153000Z
DTEND:20260209T163000Z
END:VEVENT
END:VCALENDAR
