BEGIN:VCALENDAR
VERSION:2.0
PRODID:SchoolNow
CALSCALE:GREGORIAN
BEGIN:VEVENT
UID:b73d5ce4-954c-11f0-8dc3-0e7b758fa655
DTSTAMP:20260419T163511Z
SUMMARY:Meyer Kindergarten Screenings
LOCATION:Elizabeth Meyer School\, 8100 Tripp Ave\, Skokie\, IL 60076\, USA
URL;VALUE=URI:https://www.sd735.org/calendar/8640979/meyer-kindergarten-scr
 eenings
DTSTART;VALUE=DATE:20260528
DTEND;VALUE=DATE:20260529
END:VEVENT
END:VCALENDAR
