BEGIN:VCALENDAR
VERSION:2.0
PRODID:SchoolNow
CALSCALE:GREGORIAN
BEGIN:VEVENT
UID:b73d5bfe-954c-11f0-8408-0e7b758fa655
DTSTAMP:20260419T163511Z
SUMMARY:Meyer End of Year Bash
LOCATION:Elizabeth Meyer School\, 8100 Tripp Ave\, Skokie\, IL 60076\, USA
URL;VALUE=URI:https://www.sd735.org/calendar/8640978/meyer-end-of-year-bash
DTSTART:20260529T200000Z
DTEND:20260529T220000Z
END:VEVENT
END:VCALENDAR
