BEGIN:VCALENDAR
VERSION:2.0
PRODID:SchoolNow
CALSCALE:GREGORIAN
BEGIN:VEVENT
UID:b73d5b0e-954c-11f0-959e-0e7b758fa655
DTSTAMP:20260419T163511Z
SUMMARY:Meyer "On to Kindergarten"
LOCATION:Elizabeth Meyer School\, 8100 Tripp Ave\, Skokie\, IL 60076\, USA
URL;VALUE=URI:https://www.sd735.org/calendar/8640977/meyer-on-to-kindergart
 en
DTSTART:20260520T230000Z
DTEND:20260521T000000Z
END:VEVENT
END:VCALENDAR
