BEGIN:VCALENDAR
VERSION:2.0
PRODID:SchoolNow
CALSCALE:GREGORIAN
BEGIN:VEVENT
UID:b73d5a14-954c-11f0-9d11-0e7b758fa655
DTSTAMP:20260419T163511Z
SUMMARY:Kindergarten Music Informances (see description for schedule)
LOCATION:Elizabeth Meyer School\, 8100 Tripp Ave\, Skokie\, IL 60076\, USA
URL;VALUE=URI:https://www.sd735.org/calendar/8640976/kindergarten-music-inf
 ormances-see-description-for-schedule
DTSTART:20260325T143000Z
DTEND:20260325T193000Z
END:VEVENT
END:VCALENDAR
