BEGIN:VCALENDAR
VERSION:2.0
PRODID:SchoolNow
CALSCALE:GREGORIAN
BEGIN:VEVENT
UID:b73d5668-954c-11f0-a4d6-0e7b758fa655
DTSTAMP:20260419T163512Z
SUMMARY:Preschool Open House
LOCATION:Elizabeth Meyer School\, 8100 Tripp Ave\, Skokie\, IL 60076\, USA
URL;VALUE=URI:https://www.sd735.org/calendar/8640973/preschool-open-house
DTSTART:20260201T160000Z
DTEND:20260201T180000Z
END:VEVENT
END:VCALENDAR
