BEGIN:VCALENDAR
VERSION:2.0
PRODID:SchoolNow
CALSCALE:GREGORIAN
BEGIN:VEVENT
UID:b73d3836-954c-11f0-a06d-0e7b758fa655
DTSTAMP:20260419T163511Z
SUMMARY:Meyer Kindergarten Registration Opens for NEW Students
URL;VALUE=URI:https://www.sd735.org/calendar/8640972/meyer-kindergarten-reg
 istration-opens-for-new-students
DTSTART:20260129T140000Z
DTEND:20260129T150000Z
END:VEVENT
END:VCALENDAR
