BEGIN:VCALENDAR
VERSION:2.0
PRODID:SchoolNow
CALSCALE:GREGORIAN
BEGIN:VEVENT
UID:fc4e188c-90ba-11f0-87df-0a58a9feac02
DTSTAMP:20260419T163511Z
SUMMARY:Bilingual Parent Advisory Meeting (BPAC): Summer Activities & First
  Language Literacy
LOCATION:Elizabeth Meyer School\, 8100 Tripp Ave\, Skokie\, IL 60076\, USA
URL;VALUE=URI:https://www.sd735.org/calendar/8618573/bilingual-parent-advis
 ory-meeting-bpac-summer-activities-first-language-literacy
DTSTART:20260408T230000Z
DTEND:20260409T003000Z
END:VEVENT
END:VCALENDAR
