BEGIN:VCALENDAR
VERSION:2.0
PRODID:SchoolNow
CALSCALE:GREGORIAN
BEGIN:VEVENT
UID:fc4e177e-90ba-11f0-8358-0a58a9feac02
DTSTAMP:20260419T163511Z
SUMMARY:Bilingual Parent Advisory Meeting (BPAC): Entitlement Services and 
 Community Updates
LOCATION:Elizabeth Meyer School\, 8100 Tripp Ave\, Skokie\, IL 60076\, USA
URL;VALUE=URI:https://www.sd735.org/calendar/8618572/bilingual-parent-advis
 ory-meeting-bpac-entitlement-services-and-community-updates
DTSTART:20260205T000000Z
DTEND:20260205T010000Z
END:VEVENT
END:VCALENDAR
