BEGIN:VCALENDAR
VERSION:2.0
PRODID:SchoolNow
CALSCALE:GREGORIAN
BEGIN:VEVENT
UID:81148974-8cde-11f0-9b61-0a58a9feac02
DTSTAMP:20260419T163512Z
SUMMARY:McCracken Boys 6th Grade Basketball Tryouts
URL;VALUE=URI:https://www.sd735.org/calendar/8596025/mccracken-boys-6th-gra
 de-basketball-tryouts
DTSTART:20260113T000000Z
DTEND:20260113T011500Z
END:VEVENT
END:VCALENDAR
