BEGIN:VCALENDAR
VERSION:2.0
PRODID:SchoolNow
CALSCALE:GREGORIAN
BEGIN:VEVENT
UID:8114878a-8cde-11f0-9563-0a58a9feac02
DTSTAMP:20260419T163511Z
SUMMARY:CANCELLED - Middleton Musical Rehearsal
LOCATION:John Middleton Elementary School\, 8300 St Louis Ave\, Skokie\, IL
  60076\, USA
URL;VALUE=URI:https://www.sd735.org/calendar/8596023/cancelled-middleton-mu
 sical-rehearsal
DTSTART:20260124T150000Z
DTEND:20260124T180000Z
END:VEVENT
END:VCALENDAR
