BEGIN:VCALENDAR
VERSION:2.0
PRODID:SchoolNow
CALSCALE:GREGORIAN
BEGIN:VEVENT
UID:8114869a-8cde-11f0-b212-0a58a9feac02
DTSTAMP:20260419T163511Z
SUMMARY:Concert Band SuperState Recording Session
LOCATION:Oliver McCracken Middle School\, 8000 E Prairie Rd\, Skokie\, IL 6
 0076\, USA
URL;VALUE=URI:https://www.sd735.org/calendar/8596022/concert-band-superstat
 e-recording-session
DTSTART:20260218T211500Z
DTEND:20260218T221500Z
END:VEVENT
END:VCALENDAR
