BEGIN:VCALENDAR
VERSION:2.0
PRODID:SchoolNow
CALSCALE:GREGORIAN
BEGIN:VEVENT
UID:811484a6-8cde-11f0-8d51-0a58a9feac02
DTSTAMP:20260419T163511Z
SUMMARY:Middleton 4th Grade Music Concert
LOCATION:John Middleton Elementary School\, 8300 St Louis Ave\, Skokie\, IL
  60076\, USA
URL;VALUE=URI:https://www.sd735.org/calendar/8596020/middleton-4th-grade-mu
 sic-concert
DTSTART:20260206T000000Z
DTEND:20260206T003000Z
END:VEVENT
END:VCALENDAR
