BEGIN:VCALENDAR
VERSION:2.0
PRODID:SchoolNow
CALSCALE:GREGORIAN
BEGIN:VEVENT
UID:811482bc-8cde-11f0-8bb0-0a58a9feac02
DTSTAMP:20260419T163511Z
SUMMARY:McCracken Cheerleading Workshop (7th-8th Grade Only)
URL;VALUE=URI:https://www.sd735.org/calendar/8596018/mccracken-cheerleading
 -workshop-7th-8th-grade-only
DTSTART:20260107T211000Z
DTEND:20260107T220000Z
END:VEVENT
END:VCALENDAR
