BEGIN:VCALENDAR
VERSION:2.0
PRODID:SchoolNow
CALSCALE:GREGORIAN
BEGIN:VEVENT
UID:811481c2-8cde-11f0-a6b5-0a58a9feac02
DTSTAMP:20260419T163512Z
SUMMARY:McCracken Cheerleading Workshop (7th-8th Grade Only)
URL;VALUE=URI:https://www.sd735.org/calendar/8596017/mccracken-cheerleading
 -workshop-7th-8th-grade-only
DTSTART:20260105T211000Z
DTEND:20260105T220000Z
END:VEVENT
END:VCALENDAR
