BEGIN:VCALENDAR
VERSION:2.0
PRODID:SchoolNow
CALSCALE:GREGORIAN
BEGIN:VEVENT
UID:811480be-8cde-11f0-8cea-0a58a9feac02
DTSTAMP:20260419T163511Z
SUMMARY:Meyer Family Fun Night
LOCATION:Elizabeth Meyer School\, 8100 Tripp Ave\, Skokie\, IL 60076\, USA
URL;VALUE=URI:https://www.sd735.org/calendar/8596016/meyer-family-fun-night
DTSTART:20260123T000000Z
DTEND:20260123T011500Z
END:VEVENT
END:VCALENDAR
