BEGIN:VCALENDAR
VERSION:2.0
PRODID:SchoolNow
CALSCALE:GREGORIAN
BEGIN:VEVENT
UID:81147fba-8cde-11f0-8c0f-0a58a9feac02
DTSTAMP:20260419T163511Z
SUMMARY:McCracken Cheerleading Tryouts (7th-8th Grade Only)
URL;VALUE=URI:https://www.sd735.org/calendar/8596015/mccracken-cheerleading
 -tryouts-7th-8th-grade-only
DTSTART:20260108T211000Z
DTEND:20260108T220000Z
END:VEVENT
END:VCALENDAR
