BEGIN:VCALENDAR
VERSION:2.0
PRODID:SchoolNow
CALSCALE:GREGORIAN
BEGIN:VEVENT
UID:81147eac-8cde-11f0-a4b2-0a58a9feac02
DTSTAMP:20260419T163511Z
SUMMARY:McCracken Boys Varsity Basketball Tryouts
URL;VALUE=URI:https://www.sd735.org/calendar/8596014/mccracken-boys-varsity
 -basketball-tryouts
DTSTART:20260106T220000Z
DTEND:20260106T233000Z
END:VEVENT
END:VCALENDAR
