BEGIN:VCALENDAR
VERSION:2.0
PRODID:SchoolNow
CALSCALE:GREGORIAN
BEGIN:VEVENT
UID:ccec86d2-8a98-11f0-a810-02e1a8294099
DTSTAMP:20260419T163511Z
SUMMARY:McCracken BuzzBot Robotics Competition
LOCATION:Oliver McCracken Middle School\, 8000 E Prairie Rd\, Skokie\, IL 6
 0076\, USA
URL;VALUE=URI:https://www.sd735.org/calendar/8585037/mccracken-buzzbot-robo
 tics-competition
DTSTART:20260312T213000Z
DTEND:20260312T233000Z
END:VEVENT
END:VCALENDAR
