BEGIN:VCALENDAR
VERSION:2.0
PRODID:SchoolNow
CALSCALE:GREGORIAN
BEGIN:VEVENT
UID:29fe5996-71ed-11f0-a774-0a58a9feac02
DTSTAMP:20260419T224011Z
SUMMARY:Early Dismissal Tuesday
URL;VALUE=URI:https://www.sd735.org/calendar/8471983/early-dismissal-tuesda
 y
DTSTART;VALUE=DATE:20260602
DTEND;VALUE=DATE:20260603
END:VEVENT
END:VCALENDAR
