BEGIN:VCALENDAR
VERSION:2.0
PRODID:SchoolNow
CALSCALE:GREGORIAN
BEGIN:VEVENT
UID:29fe4e60-71ed-11f0-b8fb-0a58a9feac02
DTSTAMP:20260419T163512Z
SUMMARY:Early Dismissal Tuesday
URL;VALUE=URI:https://www.sd735.org/calendar/8471970/early-dismissal-tuesda
 y
DTSTART;VALUE=DATE:20260217
DTEND;VALUE=DATE:20260218
END:VEVENT
END:VCALENDAR
