BEGIN:VCALENDAR
VERSION:2.0
PRODID:SchoolNow
CALSCALE:GREGORIAN
BEGIN:VEVENT
UID:f5309a8e-529e-11f0-a84b-0a58a9feac02
DTSTAMP:20260419T163511Z
SUMMARY:Parent-Teacher Conferences (NO SCHOOL)
URL;VALUE=URI:https://www.sd735.org/calendar/8356119/parent-teacher-confere
 nces-no-school
DTSTART:20260213T140000Z
DTEND:20260213T180000Z
END:VEVENT
END:VCALENDAR
