BEGIN:VCALENDAR
VERSION:2.0
PRODID:SchoolNow
CALSCALE:GREGORIAN
BEGIN:VEVENT
UID:f530925a-529e-11f0-96aa-0a58a9feac02
DTSTAMP:20260419T224011Z
SUMMARY:Juneteenth (DISTRICT CLOSED)
URL;VALUE=URI:https://www.sd735.org/calendar/8356115/juneteenth-district-cl
 osed
DTSTART;VALUE=DATE:20260619
DTEND;VALUE=DATE:20260620
END:VEVENT
END:VCALENDAR
