BEGIN:VCALENDAR
VERSION:2.0
PRODID:SchoolNow
CALSCALE:GREGORIAN
BEGIN:VEVENT
UID:f52b4160-529e-11f0-8059-0a58a9feac02
DTSTAMP:20260419T163511Z
SUMMARY:DISTRICT CLOSED
URL;VALUE=URI:https://www.sd735.org/calendar/8356113/district-closed
DTSTART;VALUE=DATE:20260102
DTEND;VALUE=DATE:20260103
END:VEVENT
END:VCALENDAR
